BEGIN:VCALENDAR
VERSION:2.0
PRODID:-//Pregnancy to Parenthood - Lactation Consultant IBCLC, Antenatal Classes, Breastfeeding Classes and Baby Massage classes in Dublin - ECPv6.15.18//NONSGML v1.0//EN
CALSCALE:GREGORIAN
METHOD:PUBLISH
X-WR-CALNAME:Pregnancy to Parenthood - Lactation Consultant IBCLC, Antenatal Classes, Breastfeeding Classes and Baby Massage classes in Dublin
X-ORIGINAL-URL:https://www.pregnancytoparenthood.ie
X-WR-CALDESC:Events for Pregnancy to Parenthood - Lactation Consultant IBCLC, Antenatal Classes, Breastfeeding Classes and Baby Massage classes in Dublin
REFRESH-INTERVAL;VALUE=DURATION:PT1H
X-Robots-Tag:noindex
X-PUBLISHED-TTL:PT1H
BEGIN:VTIMEZONE
TZID:Europe/Dublin
BEGIN:STANDARD
TZOFFSETFROM:+0000
TZOFFSETTO:+0100
TZNAME:IST
DTSTART:20190331T010000
END:STANDARD
BEGIN:DAYLIGHT
TZOFFSETFROM:+0100
TZOFFSETTO:+0000
TZNAME:GMT
DTSTART:20191027T010000
END:DAYLIGHT
BEGIN:STANDARD
TZOFFSETFROM:+0000
TZOFFSETTO:+0100
TZNAME:IST
DTSTART:20200329T010000
END:STANDARD
BEGIN:DAYLIGHT
TZOFFSETFROM:+0100
TZOFFSETTO:+0000
TZNAME:GMT
DTSTART:20201025T010000
END:DAYLIGHT
BEGIN:STANDARD
TZOFFSETFROM:+0000
TZOFFSETTO:+0100
TZNAME:IST
DTSTART:20210328T010000
END:STANDARD
BEGIN:DAYLIGHT
TZOFFSETFROM:+0100
TZOFFSETTO:+0000
TZNAME:GMT
DTSTART:20211031T010000
END:DAYLIGHT
END:VTIMEZONE
BEGIN:VEVENT
DTSTART;TZID=Europe/Dublin:20200115T120000
DTEND;TZID=Europe/Dublin:20200115T130000
DTSTAMP:20260424T084607
CREATED:20191201T154228Z
LAST-MODIFIED:20221015T105604Z
UID:76-1579089600-1579093200@www.pregnancytoparenthood.ie
SUMMARY:Baby Massage Jan - Feb 2020
DESCRIPTION:A five week class where you and your baby enjoy the many benefits of baby massage. This is a beautiful way to relax and bond with your baby.
URL:https://www.pregnancytoparenthood.ie/class/baby-massage-jan-feb-2020/
LOCATION:Portmarnock PSLC\, Portmarnock PSLC\, Portmarnock\, Ireland
CATEGORIES:Baby Massage Classes
END:VEVENT
END:VCALENDAR