BEGIN:VCALENDAR
VERSION:2.0
PRODID:-//Pregnancy to Parenthood - Lactation Consultant IBCLC, Antenatal Classes, Breastfeeding Classes and Baby Massage classes in Dublin - ECPv6.15.18//NONSGML v1.0//EN
CALSCALE:GREGORIAN
METHOD:PUBLISH
X-ORIGINAL-URL:https://www.pregnancytoparenthood.ie
X-WR-CALDESC:Events for Pregnancy to Parenthood - Lactation Consultant IBCLC, Antenatal Classes, Breastfeeding Classes and Baby Massage classes in Dublin
REFRESH-INTERVAL;VALUE=DURATION:PT1H
X-Robots-Tag:noindex
X-PUBLISHED-TTL:PT1H
BEGIN:VTIMEZONE
TZID:Europe/Dublin
BEGIN:STANDARD
TZOFFSETFROM:+0000
TZOFFSETTO:+0100
TZNAME:IST
DTSTART:20190331T010000
END:STANDARD
BEGIN:DAYLIGHT
TZOFFSETFROM:+0100
TZOFFSETTO:+0000
TZNAME:GMT
DTSTART:20191027T010000
END:DAYLIGHT
BEGIN:STANDARD
TZOFFSETFROM:+0000
TZOFFSETTO:+0100
TZNAME:IST
DTSTART:20200329T010000
END:STANDARD
BEGIN:DAYLIGHT
TZOFFSETFROM:+0100
TZOFFSETTO:+0000
TZNAME:GMT
DTSTART:20201025T010000
END:DAYLIGHT
BEGIN:STANDARD
TZOFFSETFROM:+0000
TZOFFSETTO:+0100
TZNAME:IST
DTSTART:20210328T010000
END:STANDARD
BEGIN:DAYLIGHT
TZOFFSETFROM:+0100
TZOFFSETTO:+0000
TZNAME:GMT
DTSTART:20211031T010000
END:DAYLIGHT
END:VTIMEZONE
BEGIN:VEVENT
DTSTART;TZID=Europe/Dublin:20200725T093000
DTEND;TZID=Europe/Dublin:20200725T103000
DTSTAMP:20260424T002230
CREATED:20200706T180437Z
LAST-MODIFIED:20200724T132358Z
UID:787-1595669400-1595673000@www.pregnancytoparenthood.ie
SUMMARY:Live Online 4 Week Baby Massage Class
DESCRIPTION:Starting Saturday July 25th. Learn massage techniques that help soothe and calm your baby. Baby massage is a great way to bond with your baby and to ease the discomfort of wind and colic.
URL:https://www.pregnancytoparenthood.ie/class/live-online-4-week-baby-massage-class/
LOCATION:Live Online\, Ireland
CATEGORIES:Baby Massage Classes
END:VEVENT
END:VCALENDAR