BEGIN:VCALENDAR
VERSION:2.0
PRODID:-//Pregnancy to Parenthood - Lactation Consultant IBCLC, Antenatal Classes, Breastfeeding Classes and Baby Massage classes in Dublin - ECPv6.15.18//NONSGML v1.0//EN
CALSCALE:GREGORIAN
METHOD:PUBLISH
X-ORIGINAL-URL:https://www.pregnancytoparenthood.ie
X-WR-CALDESC:Events for Pregnancy to Parenthood - Lactation Consultant IBCLC, Antenatal Classes, Breastfeeding Classes and Baby Massage classes in Dublin
REFRESH-INTERVAL;VALUE=DURATION:PT1H
X-Robots-Tag:noindex
X-PUBLISHED-TTL:PT1H
BEGIN:VTIMEZONE
TZID:Europe/Dublin
BEGIN:STANDARD
TZOFFSETFROM:+0000
TZOFFSETTO:+0100
TZNAME:IST
DTSTART:20210328T010000
END:STANDARD
BEGIN:DAYLIGHT
TZOFFSETFROM:+0100
TZOFFSETTO:+0000
TZNAME:GMT
DTSTART:20211031T010000
END:DAYLIGHT
BEGIN:STANDARD
TZOFFSETFROM:+0000
TZOFFSETTO:+0100
TZNAME:IST
DTSTART:20220327T010000
END:STANDARD
BEGIN:DAYLIGHT
TZOFFSETFROM:+0100
TZOFFSETTO:+0000
TZNAME:GMT
DTSTART:20221030T010000
END:DAYLIGHT
BEGIN:STANDARD
TZOFFSETFROM:+0000
TZOFFSETTO:+0100
TZNAME:IST
DTSTART:20230326T010000
END:STANDARD
BEGIN:DAYLIGHT
TZOFFSETFROM:+0100
TZOFFSETTO:+0000
TZNAME:GMT
DTSTART:20231029T010000
END:DAYLIGHT
END:VTIMEZONE
BEGIN:VEVENT
DTSTART;TZID=Europe/Dublin:20221110T113000
DTEND;TZID=Europe/Dublin:20221110T123000
DTSTAMP:20260425T122703
CREATED:20221014T185244Z
LAST-MODIFIED:20221110T102123Z
UID:1168-1668079800-1668083400@www.pregnancytoparenthood.ie
SUMMARY:5 Week Baby Massage Class Nov 10th
DESCRIPTION:This in-person baby massage class is a fabulous way to bond with your baby and learn skills to help calm and soothe them. Meet other parents\, share experiences\, create a support network all in a very relaxing and supportive environment. \nSuitable from birth to 12 months.  Refund (full or partial) available on many health Insurance policies.
URL:https://www.pregnancytoparenthood.ie/class/5-week-baby-massage-class-nov-10th/
LOCATION:Portmarnock PSLC\, Portmarnock PSLC\, Portmarnock\, Ireland
CATEGORIES:Baby Massage Classes
END:VEVENT
END:VCALENDAR