BEGIN:VCALENDAR
VERSION:2.0
PRODID:-//Pregnancy to Parenthood - Lactation Consultant IBCLC, Antenatal Classes, Breastfeeding Classes and Baby Massage classes in Dublin - ECPv6.15.18//NONSGML v1.0//EN
CALSCALE:GREGORIAN
METHOD:PUBLISH
X-ORIGINAL-URL:https://www.pregnancytoparenthood.ie
X-WR-CALDESC:Events for Pregnancy to Parenthood - Lactation Consultant IBCLC, Antenatal Classes, Breastfeeding Classes and Baby Massage classes in Dublin
REFRESH-INTERVAL;VALUE=DURATION:PT1H
X-Robots-Tag:noindex
X-PUBLISHED-TTL:PT1H
BEGIN:VTIMEZONE
TZID:Europe/Dublin
BEGIN:STANDARD
TZOFFSETFROM:+0000
TZOFFSETTO:+0100
TZNAME:IST
DTSTART:20200329T010000
END:STANDARD
BEGIN:DAYLIGHT
TZOFFSETFROM:+0100
TZOFFSETTO:+0000
TZNAME:GMT
DTSTART:20201025T010000
END:DAYLIGHT
BEGIN:STANDARD
TZOFFSETFROM:+0000
TZOFFSETTO:+0100
TZNAME:IST
DTSTART:20210328T010000
END:STANDARD
BEGIN:DAYLIGHT
TZOFFSETFROM:+0100
TZOFFSETTO:+0000
TZNAME:GMT
DTSTART:20211031T010000
END:DAYLIGHT
BEGIN:STANDARD
TZOFFSETFROM:+0000
TZOFFSETTO:+0100
TZNAME:IST
DTSTART:20220327T010000
END:STANDARD
BEGIN:DAYLIGHT
TZOFFSETFROM:+0100
TZOFFSETTO:+0000
TZNAME:GMT
DTSTART:20221030T010000
END:DAYLIGHT
BEGIN:STANDARD
TZOFFSETFROM:+0000
TZOFFSETTO:+0100
TZNAME:IST
DTSTART:20230326T010000
END:STANDARD
BEGIN:DAYLIGHT
TZOFFSETFROM:+0100
TZOFFSETTO:+0000
TZNAME:GMT
DTSTART:20231029T010000
END:DAYLIGHT
BEGIN:STANDARD
TZOFFSETFROM:+0000
TZOFFSETTO:+0100
TZNAME:IST
DTSTART:20240331T010000
END:STANDARD
BEGIN:DAYLIGHT
TZOFFSETFROM:+0100
TZOFFSETTO:+0000
TZNAME:GMT
DTSTART:20241027T010000
END:DAYLIGHT
END:VTIMEZONE
BEGIN:VEVENT
DTSTART;TZID=Europe/Dublin:20210427T103000
DTEND;TZID=Europe/Dublin:20210427T114500
DTSTAMP:20260424T134949
CREATED:20210218T123950Z
LAST-MODIFIED:20210220T212821Z
UID:904-1619519400-1619523900@www.pregnancytoparenthood.ie
SUMMARY:5 Week Baby Massage April 27th
DESCRIPTION:5 Week Baby Massage live online. Bond with your baby and learn skills to help calm and soothe them. Meet other parents and create a social circle from the comfort of your own home. Suitable from birth to 12 months.  Refund (full or partial) available on many health Insurance policies.
URL:https://www.pregnancytoparenthood.ie/class/5-week-baby-massage-may-2021/
LOCATION:Live Online\, Ireland
CATEGORIES:Baby Massage Classes
END:VEVENT
BEGIN:VEVENT
DTSTART;TZID=Europe/Dublin:20210608T103000
DTEND;TZID=Europe/Dublin:20210608T114500
DTSTAMP:20260424T134949
CREATED:20210503T214537Z
LAST-MODIFIED:20210603T113218Z
UID:993-1623148200-1623152700@www.pregnancytoparenthood.ie
SUMMARY:Sold Out - 5 Week Baby Massage June 8th
DESCRIPTION:5 Week Baby Massage live online. Bond with your baby and learn skills to help calm and soothe them. Meet other parents and create a social circle from the comfort of your own home. Suitable from birth to 12 months.  Refund (full or partial) available on many health Insurance policies.
URL:https://www.pregnancytoparenthood.ie/class/5-week-baby-massage-june-8th/
LOCATION:Live Online\, Ireland
CATEGORIES:Baby Massage Classes
END:VEVENT
BEGIN:VEVENT
DTSTART;TZID=Europe/Dublin:20210921T103000
DTEND;TZID=Europe/Dublin:20210921T114500
DTSTAMP:20260424T134949
CREATED:20210818T105118Z
LAST-MODIFIED:20210818T105118Z
UID:1010-1632220200-1632224700@www.pregnancytoparenthood.ie
SUMMARY:5 Week Baby Massage September 21st
DESCRIPTION:5 Week Baby Massage live online. Bond with your baby and learn skills to help calm and soothe them. Meet other parents and create a social circle from the comfort of your own home. Suitable from birth to 12 months.  Refund (full or partial) available on many health Insurance policies.
URL:https://www.pregnancytoparenthood.ie/class/5-week-baby-massage-september-21st/
LOCATION:Live Online\, Ireland
CATEGORIES:Baby Massage Classes
END:VEVENT
BEGIN:VEVENT
DTSTART;TZID=Europe/Dublin:20211102T110000
DTEND;TZID=Europe/Dublin:20211102T120000
DTSTAMP:20260424T134949
CREATED:20211023T223513Z
LAST-MODIFIED:20211023T223513Z
UID:1054-1635850800-1635854400@www.pregnancytoparenthood.ie
SUMMARY:5 Week Baby Massage November 2nd
DESCRIPTION:In person 5 Week Baby Massage. Bond with your baby and learn skills to help calm and soothe them. Meet other parents\, share experiences\, create a support network.  Suitable from birth to 12 months.  Refund (full or partial) available on many health Insurance policies.
URL:https://www.pregnancytoparenthood.ie/class/5-week-baby-massage-november-2nd/
LOCATION:Portmarnock PSLC\, Portmarnock PSLC\, Portmarnock\, Ireland
CATEGORIES:Baby Massage Classes
END:VEVENT
BEGIN:VEVENT
DTSTART;TZID=Europe/Dublin:20220111T110000
DTEND;TZID=Europe/Dublin:20220111T120000
DTSTAMP:20260424T134949
CREATED:20211216T140517Z
LAST-MODIFIED:20211216T140517Z
UID:1075-1641898800-1641902400@www.pregnancytoparenthood.ie
SUMMARY:5 Week Baby Massage January 11th
DESCRIPTION:This in-person baby massage class is a fabulous way to bond with your baby and learn skills to help calm and soothe them. Meet other parents\, share experiences\, create a support network all in a very relaxing and supportive environment. \nThis group will be small and we will adhere to government Covid-19 recommendations for in person groups. Suitable from birth to 12 months.  Refund (full or partial) available on many health Insurance policies.
URL:https://www.pregnancytoparenthood.ie/class/5-week-baby-massage-january-11th/
LOCATION:Portmarnock PSLC\, Portmarnock PSLC\, Portmarnock\, Ireland
CATEGORIES:Baby Massage Classes
END:VEVENT
BEGIN:VEVENT
DTSTART;TZID=Europe/Dublin:20220426T110000
DTEND;TZID=Europe/Dublin:20220426T120000
DTSTAMP:20260424T134949
CREATED:20220307T154134Z
LAST-MODIFIED:20220307T154134Z
UID:1107-1650970800-1650974400@www.pregnancytoparenthood.ie
SUMMARY:5 Week Baby Massage April 26th
DESCRIPTION:This in-person baby massage class is a fabulous way to bond with your baby and learn skills to help calm and soothe them. Meet other parents\, share experiences\, create a support network all in a very relaxing and supportive environment. \nThis group will be small and we will adhere to government Covid-19 recommendations for in person groups. Suitable from birth to 12 months.  Refund (full or partial) available on many health Insurance policies.
URL:https://www.pregnancytoparenthood.ie/class/5-week-baby-massage-april-26th/
LOCATION:Portmarnock PSLC\, Portmarnock PSLC\, Portmarnock\, Ireland
CATEGORIES:Baby Massage Classes
END:VEVENT
BEGIN:VEVENT
DTSTART;TZID=Europe/Dublin:20220531T100000
DTEND;TZID=Europe/Dublin:20220531T110000
DTSTAMP:20260424T134949
CREATED:20220518T173152Z
LAST-MODIFIED:20220518T173152Z
UID:1134-1653991200-1653994800@www.pregnancytoparenthood.ie
SUMMARY:5 Week Baby Massage May 31st
DESCRIPTION:This in-person baby massage class is a fabulous way to bond with your baby and learn skills to help calm and soothe them. Meet other parents\, share experiences\, create a support network all in a very relaxing and supportive environment. \nThis group will be small and we will adhere to government Covid-19 recommendations for in person groups. Suitable from birth to 12 months.  Refund (full or partial) available on many health Insurance policies.
URL:https://www.pregnancytoparenthood.ie/class/5-week-baby-massage-may-31st/
LOCATION:Portmarnock PSLC\, Portmarnock PSLC\, Portmarnock\, Ireland
CATEGORIES:Baby Massage Classes
END:VEVENT
BEGIN:VEVENT
DTSTART;TZID=Europe/Dublin:20221110T113000
DTEND;TZID=Europe/Dublin:20221110T123000
DTSTAMP:20260424T134949
CREATED:20221014T185244Z
LAST-MODIFIED:20221110T102123Z
UID:1168-1668079800-1668083400@www.pregnancytoparenthood.ie
SUMMARY:5 Week Baby Massage Class Nov 10th
DESCRIPTION:This in-person baby massage class is a fabulous way to bond with your baby and learn skills to help calm and soothe them. Meet other parents\, share experiences\, create a support network all in a very relaxing and supportive environment. \nSuitable from birth to 12 months.  Refund (full or partial) available on many health Insurance policies.
URL:https://www.pregnancytoparenthood.ie/class/5-week-baby-massage-class-nov-10th/
LOCATION:Portmarnock PSLC\, Portmarnock PSLC\, Portmarnock\, Ireland
CATEGORIES:Baby Massage Classes
END:VEVENT
BEGIN:VEVENT
DTSTART;TZID=Europe/Dublin:20230228T110000
DTEND;TZID=Europe/Dublin:20230228T120000
DTSTAMP:20260424T134949
CREATED:20230111T125945Z
LAST-MODIFIED:20230207T111530Z
UID:1221-1677582000-1677585600@www.pregnancytoparenthood.ie
SUMMARY:February Baby Massage
DESCRIPTION:This in-person baby massage class is a fabulous way to bond with your baby and learn skills to help calm and soothe them. Baby massage eases the discomfort of wind\, reflux and colic.  Meet other parents\, share experiences\, create a support network all in a very relaxing and supportive environment. \nSuitable from birth to 12 months.  Refund (full or partial) available on many health Insurance policies.
URL:https://www.pregnancytoparenthood.ie/class/february-baby-massage/
LOCATION:Portmarnock PSLC\, Portmarnock PSLC\, Portmarnock\, Ireland
CATEGORIES:Baby Massage Classes
END:VEVENT
END:VCALENDAR